BEGIN:VCALENDAR
VERSION:2.0
PRODID:-//eventon.com NONSGML v1.0//EN
BEGIN:VEVENT
UID:69e4d97ce70b2
DTSTAMP:20260419T153244
DTSTART:20260417T100000Z
DTEND:20260417T215000Z
TZID:Europe/Madrid
LOCATION:Patio de Luces de la Diputación Provincial de Almería Calle Navarro Rodrigo\,  nº 17.
SUMMARY:Presentación de la Feria del Vino de Laujar de Andarax
DESCRIPTION: La Diputación Provincial convoca a los medios de comunicación a la presentación de la nueva edición de la Feria del Vino de Laujar de Andarax. En el acto\,  que se celebra en el Patio de Luces de la institución provincial\,  intervendrán el diputado de Presidencia y Promoción de la Provincia\,  Carlos[..]\nhttps://blog.dipalme.org/events/presentacion-de-la-feria-del-vino-de-laujar-de-andarax-2/
URL:https://blog.dipalme.org/events/presentacion-de-la-feria-del-vino-de-laujar-de-andarax-2/
END:VEVENT
END:VCALENDAR