BEGIN:VCALENDAR
VERSION:2.0
PRODID:-//eventon.com NONSGML v1.0//EN
BEGIN:VEVENT
UID:69e72283360b1
DTSTAMP:20260421T090851
DTSTART:20260409T080000Z
DTEND:20260409T215000Z
TZID:Europe/Madrid
LOCATION:Biblioteca Municipal Central "José María Artero" C/ Santos Zárate 04004
SUMMARY:Presentación de la Feria del Libro de Almería
DESCRIPTION: 11:00 horas: La diputada provincial\,  Lorena Nieto\,  participa en la presentación de la Feria del Libro de Almería. En la Biblioteca Central José María Artero. En la calle Santos Zárate\,  13 (Almería).\nhttps://blog.dipalme.org/events/presentacion-de-la-feria-del-libro-de-almeria/
URL:https://blog.dipalme.org/events/presentacion-de-la-feria-del-libro-de-almeria/
END:VEVENT
END:VCALENDAR