BEGIN:VCALENDAR
VERSION:2.0
PRODID:-//eventon.com NONSGML v1.0//EN
BEGIN:VEVENT
UID:69e52cf78af2f
DTSTAMP:20260419T212855
DTSTART:20250805T183000Z
DTEND:20250805T215000Z
TZID:Europe/Madrid
LOCATION:Terraza del Centro de Interpretación Patrimonial del Ayuntamiento de Almería Plaza de la Constitución\,  s/n\,  04003 Almería
SUMMARY:Presentación de la Feria y Fiestas de Almería 2025
DESCRIPTION: 20:30 horas. La vicepresidenta y diputada de Cultura\,  Almudena Morales\,  asiste a la presentación de la Feria y Fiestas de Almería 2025. En la Terraza del Centro de Interpretación Patrimonial. En la Plaza de la Constitución S/N. (Almería).\nhttps://blog.dipalme.org/events/presentacion-de-la-feria-y-fiestas-de-almeria-2025/
URL:https://blog.dipalme.org/events/presentacion-de-la-feria-y-fiestas-de-almeria-2025/
END:VEVENT
END:VCALENDAR