BEGIN:VCALENDAR
VERSION:2.0
PRODID:-//eventon.com NONSGML v1.0//EN
BEGIN:VEVENT
UID:69ea81fc4d447
DTSTAMP:20260423T223300
DTSTART:20250410T080000Z
DTEND:20250410T215000Z
TZID:Europe/Madrid
LOCATION:Hall de la Sala de Comisiones del Palacio Provincial\,  Primera Planta. C/ Navarro Rodrigo\,  17
SUMMARY:Presentación de la V edición Infoagro Exhibition
DESCRIPTION: La Diputación Provincial convoca a los medios de comunicación a la rueda de prensa de presentación de la quinta edición de la feria Infoagro Exhibition\,  que tendrá lugar en el Hall de la Sala de Comisiones del Palacio Provincial &nbsp; En la presentación\,  intervendrán Carlos Sánchez\,  diputado de Promoción Agroalimentaria\, [..]\nhttps://blog.dipalme.org/events/presentacion-de-la-v-edicion-infoagro-exhibition/
URL:https://blog.dipalme.org/events/presentacion-de-la-v-edicion-infoagro-exhibition/
END:VEVENT
END:VCALENDAR