BEGIN:VCALENDAR
VERSION:2.0
PRODID:-//eventon.com NONSGML v1.0//EN
BEGIN:VEVENT
UID:69e4dd01cf1cd
DTSTAMP:20260419T154745
DTSTART:20250409T100000Z
DTEND:20250409T215000Z
TZID:Europe/Madrid
LOCATION:Pabellón Moisés Ruiz Calle Níjar\,  2\,  04006 Almería
SUMMARY:Presentación Circuito Provincial XCM Series Almería 2025
DESCRIPTION: La Diputación Provincial convoca a los medios de comunicación a la presentación del Circuito Provincial XCM Series Almería 2025\,  en el Pabellón Moisés Ruiz. &nbsp; En la presentación intervendrán el vicepresidente y diputado de Deportes\,  José Antonio García; y el presidente de la Federación Andaluza de Ciclismo\,  Carlos Rueda. Estarán[..]\nhttps://blog.dipalme.org/events/presentacion-circuito-provincial-xcm-series-almeria-2025/
URL:https://blog.dipalme.org/events/presentacion-circuito-provincial-xcm-series-almeria-2025/
END:VEVENT
END:VCALENDAR