BEGIN:VCALENDAR
VERSION:2.0
PRODID:-//eventon.com NONSGML v1.0//EN
BEGIN:VEVENT
UID:69e8b530e6a64
DTSTAMP:20260422T134656
DTSTART:20250313T093000Z
DTEND:20250313T225000Z
TZID:Europe/Madrid
LOCATION:Diputación de Almería C/ Navarro Rodrigo\,  17
SUMMARY:Presentación del Circuito Provincial de Carreras Populares 2025
DESCRIPTION: La Diputación Provincial convoca a los medios de comunicación a la celebración del calendario del Circuito Provincial de Carreras Populares para este año. &nbsp; En la presentación intervendrá el vicepresidente y diputado de Deportes\,  José Antonio García\,  que estará acompañado por alcaldes y concejales de los ayuntamientos de municipios sede\, [..]\nhttps://blog.dipalme.org/events/presentacion-del-circuito-provincial-de-carreras-populares-2025/
URL:https://blog.dipalme.org/events/presentacion-del-circuito-provincial-de-carreras-populares-2025/
END:VEVENT
END:VCALENDAR