BEGIN:VCALENDAR
VERSION:2.0
PRODID:-//eventon.com NONSGML v1.0//EN
BEGIN:VEVENT
UID:69e4c45461c90
DTSTAMP:20260419T140228
DTSTART:20250112T113000Z
DTEND:20250112T225000Z
TZID:Europe/Madrid
LOCATION:Ermita de Torregarcía 04131\,  Almería
SUMMARY:Misa con motivo de la Romería de Torregarcía
DESCRIPTION: 12.30 horas: El presidente de la Diputación\,  Javier A. García\,  y los diputados provinciales Carlos Sánchez y Antonio J. Rodríguez participan en la misa con motivo de la Romería de Torregarcía. Ermita de Torregarcía.\nhttps://blog.dipalme.org/events/misa-con-motivo-de-la-romeria-de-torregarcia/
URL:https://blog.dipalme.org/events/misa-con-motivo-de-la-romeria-de-torregarcia/
END:VEVENT
END:VCALENDAR