BEGIN:VCALENDAR
VERSION:2.0
PRODID:-//eventon.com NONSGML v1.0//EN
BEGIN:VEVENT
UID:69eabe5311fdb
DTSTAMP:20260424T025027
DTSTART:20250108T113000Z
DTEND:20250108T113000Z
TZID:UTC
LOCATION:Sala de Prensa del Ayuntamiento de Almería Plaza de la Constitución\,  s/n
SUMMARY:Rueda de prensa para presentar el VIII Concierto de Navidad
DESCRIPTION: 11.00 horas. La vicepresidenta de Diputación de Almería\,  Almudena Morales\,  participa en la rueda de prensa para presentar el VIII Concierto de Navidad. En la Sala de prensa del Ayuntamiento de Almería\,  en la Plaza de la Constitución.\nhttps://blog.dipalme.org/events/rueda-de-prensa-para-presentar-el-viii-concierto-de-navidad/
URL:https://blog.dipalme.org/events/rueda-de-prensa-para-presentar-el-viii-concierto-de-navidad/
END:VEVENT
END:VCALENDAR