BEGIN:VCALENDAR
VERSION:2.0
PRODID:-//eventon.com NONSGML v1.0//EN
BEGIN:VEVENT
UID:69e91be01c3a2
DTSTAMP:20260422T210504
DTSTART:20241120T190000Z
DTEND:20241120T225000Z
TZID:Europe/Madrid
LOCATION:Teatro Cervantes. Paseo de Almería esquina con C/ Poeta Villaespesa
SUMMARY:XXIII FESTIVAL INTERNACIONAL DE CINE DE ALMERÍA FICAL 2024
DESCRIPTION: MIÉRCOLES\,  20 DE NOVIEMBRE DE 2024 GALA DEL AUDIOVISUAL ALMERIENSE Teatro Cervantes\,  Calle Poeta Villaespesa\,  1 &nbsp; 20:00 h. Llegada de los medios de comunicación por la puerta indicada Imprescindible Pase de Prensa ****** 20:05 h. Llegada de actores y cineastas Photocall ****** 20:20 h. Llegada de patrocinadores Photocall &nbsp;[..]\nhttps://blog.dipalme.org/events/xxiii-festival-internacional-de-cine-de-almeria-fical-2024/
URL:https://blog.dipalme.org/events/xxiii-festival-internacional-de-cine-de-almeria-fical-2024/
END:VEVENT
END:VCALENDAR