BEGIN:VCALENDAR
VERSION:2.0
PRODID:-//eventon.com NONSGML v1.0//EN
BEGIN:VEVENT
UID:69e5ff430f9af
DTSTAMP:20260420T122611
DTSTART:20241108T193000Z
DTEND:20241108T225000Z
TZID:Europe/Madrid
LOCATION:Teatro Auditorio Roquetas de Mar Teatro Auditorio Roquetas de Mar\,  Avenida Reino de España\,  Roquetas de Mar
SUMMARY:XX Gala del Deporte de Roquetas de Mar.
DESCRIPTION: 20.30 horas: El diputado provincial\,  Álvaro Izquierdo\,  asiste a la XX Gala del Deporte de Roquetas de Mar.  En el Teatro Auditorio de Roquetas de Mar.\nhttps://blog.dipalme.org/events/xx-gala-del-deporte-de-roquetas-de-mar/
URL:https://blog.dipalme.org/events/xx-gala-del-deporte-de-roquetas-de-mar/
END:VEVENT
END:VCALENDAR