BEGIN:VCALENDAR
VERSION:2.0
PRODID:-//eventon.com NONSGML v1.0//EN
BEGIN:VEVENT
UID:69e5d0a1d0ad0
DTSTAMP:20260420T090713
DTSTART:20241023T100000Z
DTEND:20241023T215000Z
TZID:Europe/Madrid
LOCATION:Patio del Mandarino. Área de Cultura de la Diputación Provincial de Almería Plaza Bendicho s/n. Almería
SUMMARY:Presentación de las obras seleccionadas en Certamen Nacional de ‘Ópera Prima’
DESCRIPTION: La Diputación Provincial de Almería convoca a los medios de comunicación a la presentación de las obras seleccionadas a concurso en el Certamen Nacional de Ópera Prima del Festival Internacional de Cine de Almería\,  FICAL. &nbsp; En la presentación intervendrán la vicepresidenta\,  diputada de Cultura\,  Cine e Identidad Almeriense\,  Almudena[..]\nhttps://blog.dipalme.org/events/presentacion-de-las-obras-seleccionadas-en-certamen-nacional-de-opera-prima/
URL:https://blog.dipalme.org/events/presentacion-de-las-obras-seleccionadas-en-certamen-nacional-de-opera-prima/
END:VEVENT
END:VCALENDAR