BEGIN:VCALENDAR
VERSION:2.0
PRODID:-//eventon.com NONSGML v1.0//EN
BEGIN:VEVENT
UID:69eccb171452d
DTSTAMP:20260425T160927
DTSTART:20241004T180000Z
DTEND:20241004T215000Z
TZID:Europe/Madrid
LOCATION:Ayuntamiento de Macael Calle Garcia Lorca\,  48\,  04867 Macael\,  Almería
SUMMARY:Acto de lectura del Pregón de las Fiestas de Macael
DESCRIPTION: 20.00 horas: El presidente de la Diputación\,  Javier A. García\,  asiste al acto de lectura del Pregón de las Fiestas de Macael por parte del delegado territorial de la Junta de Andalucía\,  el macaelero\,  Guillermo Casquet.  Ayuntamiento de Macael.\nhttps://blog.dipalme.org/events/acto-de-lectura-del-pregon-de-las-fiestas-de-macael/
URL:https://blog.dipalme.org/events/acto-de-lectura-del-pregon-de-las-fiestas-de-macael/
END:VEVENT
END:VCALENDAR