BEGIN:VCALENDAR
VERSION:2.0
PRODID:-//eventon.com NONSGML v1.0//EN
BEGIN:VEVENT
UID:69e64f7283c05
DTSTAMP:20260420T180818
DTSTART:20240927T160000Z
DTEND:20240927T215000Z
TZID:Europe/Madrid
LOCATION:Salón de Plenos del Ayuntamiento de Almería Plaza de la Constitución s/n
SUMMARY:Acto de recepción de Tuna España.
DESCRIPTION: 18:00 horas: La vicepresidenta de Diputación y diputada de Cultura\,  Cine e Identidad Almeriense\,  Almudena Morales\,  participa en el acto de recepción de Tuna España. En el Salón de Plenos del Ayuntamiento de Almería.\nhttps://blog.dipalme.org/events/acto-de-recepcion-de-tuna-espana/
URL:https://blog.dipalme.org/events/acto-de-recepcion-de-tuna-espana/
END:VEVENT
END:VCALENDAR