BEGIN:VCALENDAR
VERSION:2.0
PRODID:-//eventon.com NONSGML v1.0//EN
BEGIN:VEVENT
UID:69e9a3c4a253b
DTSTAMP:20260423T064452
DTSTART:20240911T180000Z
DTEND:20240911T215000Z
TZID:Europe/Madrid
LOCATION:Sala Varadero de la Autoridad Portuaria de Almería 
SUMMARY:Presentación del Libro ‘Faros. Colección Guías de Almería. Territorio\,  Cultura y Arte’
DESCRIPTION: La Diputación Provincial de Almería convoca a los medios de comunicación a la presentación del libro editado por el Instituto de Estudios Almerienses (IEA) ‘Faros. Colección Guías de Almería. Territorio\,  Cultura y Arte’. &nbsp; En el acto de presentación\,  que tendrá lugar en la sede de la Autoridad Portuaria\,  intervendrán[..]\nhttps://blog.dipalme.org/events/presentacion-del-libro-faros-coleccion-guias-de-almeria-territorio-cultura-y-arte/
URL:https://blog.dipalme.org/events/presentacion-del-libro-faros-coleccion-guias-de-almeria-territorio-cultura-y-arte/
END:VEVENT
END:VCALENDAR