BEGIN:VCALENDAR
VERSION:2.0
PRODID:-//eventon.com NONSGML v1.0//EN
BEGIN:VEVENT
UID:69e9232f05b94
DTSTAMP:20260422T213615
DTSTART:20240908T090000Z
DTEND:20240908T215000Z
TZID:Europe/Madrid
LOCATION:Santuario de Nuestra Señora del Saliente Carretera\,  A- 7100\,  04800 Saliente Alto\,  Albox\,  Almería
SUMMARY:Actos en Honor a la Señora de los Desamparados del Buen Retiro del Saliente Coronada.
DESCRIPTION: 11:00 horas: Los diputados provinciales\,  José Juan Martínez y Ana Lourdes Ramírez\,  asisten a los actos en Honor a la Señora de los Desamparados del Buen Retiro del Saliente Coronada. Santuario de Nuestra Señora de los Desamparados del Buen Retiro del Saliente Coronada. Santuario del Saliente (Albox).\nhttps://blog.dipalme.org/events/actos-en-honor-a-la-senora-de-los-desamparados-del-buen-retiro-del-saliente-coronada/
URL:https://blog.dipalme.org/events/actos-en-honor-a-la-senora-de-los-desamparados-del-buen-retiro-del-saliente-coronada/
END:VEVENT
END:VCALENDAR