BEGIN:VCALENDAR
VERSION:2.0
PRODID:-//eventon.com NONSGML v1.0//EN
BEGIN:VEVENT
UID:69ebe8934030e
DTSTAMP:20260425T000259
DTSTART:20240807T080000Z
DTEND:20240807T215000Z
TZID:Europe/Madrid
LOCATION:Hall de la Sala de Comisiones de Diputación. Calle Navarro Rodrigo\,  17\,  1ª Planta. 
SUMMARY:Presentación Festival de Flamenco de los Hornos de Calcinación de Lucainena de las Torres
DESCRIPTION: La Diputación Provincial de Almería convoca a los medios de comunicación a la presentación del Festival de Flamenco de los Hornos de Calcinación de Lucainena de las Torres &nbsp; En el acto intervendrá la vicepresidenta de Diputación\,  Almudena Morales y el alcalde de Lucainena de las Torres\,  Juan Herrera. Estarán[..]\nhttps://blog.dipalme.org/events/presentacion-festival-de-flamenco-de-los-hornos-de-calcinacion-de-lucainena-de-las-torres/
URL:https://blog.dipalme.org/events/presentacion-festival-de-flamenco-de-los-hornos-de-calcinacion-de-lucainena-de-las-torres/
END:VEVENT
END:VCALENDAR