BEGIN:VCALENDAR
VERSION:2.0
PRODID:-//eventon.com NONSGML v1.0//EN
BEGIN:VEVENT
UID:69ed93f8f23d6
DTSTAMP:20260426T062632
DTSTART:20240801T083000Z
DTEND:20240801T215000Z
TZID:Europe/Madrid
LOCATION:Sede de la Cámara de Comercio de Almería Av. de Cabo de Gata\,  29\,  04007 Almería
SUMMARY:Puesta en marcha de los proyectos de las ‘Comunidades Energéticas Locales Toda Almería’.
DESCRIPTION: 10.30 horas: El diputado provincial de Sostenibilidad participa en la puesta en marcha de los proyectos de las ‘Comunidades Energéticas Locales Toda Almería’. Sala Demos\,  Espacio Coworking\,  Planta -1. Sede de la Cámara de Comercio\nhttps://blog.dipalme.org/events/puesta-en-marcha-de-los-proyectos-de-las-comunidades-energeticas-locales-toda-almeria/
URL:https://blog.dipalme.org/events/puesta-en-marcha-de-los-proyectos-de-las-comunidades-energeticas-locales-toda-almeria/
END:VEVENT
END:VCALENDAR