BEGIN:VCALENDAR
VERSION:2.0
PRODID:-//eventon.com NONSGML v1.0//EN
BEGIN:VEVENT
UID:69e7e9fe38e84
DTSTAMP:20260421T231958
DTSTART:20240725T183000Z
DTEND:20240725T215000Z
TZID:Europe/Madrid
LOCATION:Purchena Pl. Larga\,  14\,  04870 Purchena\,  Almería
SUMMARY:Inauguración de los Juegos Moriscos de Purchena
DESCRIPTION: 20:30 horas: Los vicepresidentes\,  José Antonio García y Almudena Morales\,  participan en la inauguración de los Juegos Moriscos de Purchena. Purchena\nhttps://blog.dipalme.org/events/inauguracion-de-los-juegos-moriscos-de-purchena/
URL:https://blog.dipalme.org/events/inauguracion-de-los-juegos-moriscos-de-purchena/
END:VEVENT
END:VCALENDAR