BEGIN:VCALENDAR
VERSION:2.0
PRODID:-//eventon.com NONSGML v1.0//EN
BEGIN:VEVENT
UID:69eb9cf50b35e
DTSTAMP:20260424T184021
DTSTART:20240625T080000Z
DTEND:20240625T215000Z
TZID:Europe/Madrid
LOCATION:Patio del Mandarino. Sede de Cultura Plaza Bendicho s/n. Almería
SUMMARY:Rincones de Palabra y Música de Oria
DESCRIPTION: La Diputación Provincial de Almería convoca a los medios de comunicación a la presentación de Rincones de Palabra y Música de Oria. Intervendrán la diputada de Cultura\,  Cine e Identidad Almeriense\,  Almudena Morales\,  así como el delegado de Turismo\,  Cultura y Deporte\,  Juan José Alonso\,  y el alcalde de Oria\, [..]\nhttps://blog.dipalme.org/events/rincones-de-palabra-y-musica-de-oria/
URL:https://blog.dipalme.org/events/rincones-de-palabra-y-musica-de-oria/
END:VEVENT
END:VCALENDAR