BEGIN:VCALENDAR
VERSION:2.0
PRODID:-//eventon.com NONSGML v1.0//EN
BEGIN:VEVENT
UID:69ec2ff58f270
DTSTAMP:20260425T050733
DTSTART:20240531T073000Z
DTEND:20240531T215000Z
TZID:Europe/Madrid
LOCATION:Auditorio Ciudad de Vera 
SUMMARY:Jornadas de Accesibilidad de la Federación Almeriense de Asociaciones de Personas con Discapacidad (FAAM)
DESCRIPTION: 09:30 horas: El vicepresidente y diputado de Bienestar Social\,  Ángel Escobar\,  asiste a las Jornadas de Accesibilidad de la Federación Almeriense de Asociaciones de Personas con Discapacidad (FAAM). En el Auditorio Ciudad de Vera.\nhttps://blog.dipalme.org/events/jornadas-de-accesibilidad-de-la-federacion-almeriense-de-asociaciones-de-personas-con-discapacidad-faam/
URL:https://blog.dipalme.org/events/jornadas-de-accesibilidad-de-la-federacion-almeriense-de-asociaciones-de-personas-con-discapacidad-faam/
END:VEVENT
END:VCALENDAR