BEGIN:VCALENDAR
VERSION:2.0
PRODID:-//eventon.com NONSGML v1.0//EN
BEGIN:VEVENT
UID:69ecd235d3cbf
DTSTAMP:20260425T163949
DTSTART:20240324T160000Z
DTEND:20240324T225000Z
TZID:Europe/Madrid
LOCATION:Calle Navarro Rodrigo\,  nº 17 C. Navarro Rodrigo\,  17\,  04001 Almería
SUMMARY:Levantá a Nuestro Padre Jesús de las Penas y María Santísima de La Estrella a su paso por la puerta del Palacio Provincial
DESCRIPTION: 17:00 horas: El presidente de la Diputación de Almería\,  Javier A. García\,  acompañado por los vicepresidentes Almudena Morales y José Antonio García\,  realiza una levantá a Nuestro Padre Jesús de las Penas y María Santísima de La Estrella a su paso por la puerta del Palacio Provincial. En la calle[..]\nhttps://blog.dipalme.org/events/levanta-a-nuestro-padre-jesus-de-las-penas-y-maria-santisima-de-la-estrella-a-su-paso-por-la-puerta-del-palacio-provincial/
URL:https://blog.dipalme.org/events/levanta-a-nuestro-padre-jesus-de-las-penas-y-maria-santisima-de-la-estrella-a-su-paso-por-la-puerta-del-palacio-provincial/
END:VEVENT
END:VCALENDAR