BEGIN:VCALENDAR
VERSION:2.0
PRODID:-//eventon.com NONSGML v1.0//EN
BEGIN:VEVENT
UID:69eb7455e32f1
DTSTAMP:20260424T154701
DTSTART:20240224T153000Z
DTEND:20240224T225000Z
TZID:Europe/Madrid
LOCATION:Teatro de Huércal de Almería 
SUMMARY:III Certamen de Marchas Procesionales ‘Latir cofrade’ de Huércal de Almería
DESCRIPTION: 16:30 horas. La vicepresidenta de Diputación y diputada de Cultura\,  Cine e Identidad Almeriense\,  Almudena Morales\,  participa en el III Certamen de Marchas Procesionales ‘Latir cofrade’ de Huércal de Almería. En el Teatro de Huércal de Almería.  \nhttps://blog.dipalme.org/events/iii-certamen-de-marchas-procesionales-latir-cofrade-de-huercal-de-almeria/
URL:https://blog.dipalme.org/events/iii-certamen-de-marchas-procesionales-latir-cofrade-de-huercal-de-almeria/
END:VEVENT
END:VCALENDAR