BEGIN:VCALENDAR
VERSION:2.0
PRODID:-//eventon.com NONSGML v1.0//EN
BEGIN:VEVENT
UID:69e78252b25e0
DTSTAMP:20260421T155738
DTSTART:20240211T100000Z
DTEND:20240211T225000Z
TZID:Europe/Madrid
LOCATION:Puerta del Ayuntamiento de Vícar. Bulevar Ciudad de Vicar\,  1331.
SUMMARY:Salida de La Clásica Ciclista de Almería
DESCRIPTION: 11:00 horas. Los diputados María Luisa Cruz y Álvaro Izquierdo asisten a la salida de La Clásica Ciclista de Almería. Bulevar de la Puebla de Vícar. Frente al Ayuntamiento.\nhttps://blog.dipalme.org/events/salida-de-la-clasica-ciclista-de-almeria/
URL:https://blog.dipalme.org/events/salida-de-la-clasica-ciclista-de-almeria/
END:VEVENT
END:VCALENDAR