BEGIN:VCALENDAR
VERSION:2.0
PRODID:-//eventon.com NONSGML v1.0//EN
BEGIN:VEVENT
UID:69ea81fc5394e
DTSTAMP:20260423T223300
DTSTART:20240209T103000Z
DTEND:20240209T225000Z
TZID:Europe/Madrid
LOCATION:Espacio de Mujeres de la Diputación Provincial. Delegación de Igualdad. C/ Marín\,  1
SUMMARY:Presentación Certamen Latir Cofrade
DESCRIPTION: La Diputación Provincial de Almería convoca a los medios de comunicación a la presentación del III Certamen de Bandas Procesionales ‘Latir Cofrade’ de Huércal de Almería Intervendrán la diputada de Cultura\,  Cine e Identidad Almeriense\,  Almudena Morales\,  así como Almudena Serrano\,  teniente de alcalde y concejala de Cultura de Huércal[..]\nhttps://blog.dipalme.org/events/presentacion-certamen-latir-cofrade/
URL:https://blog.dipalme.org/events/presentacion-certamen-latir-cofrade/
END:VEVENT
END:VCALENDAR