BEGIN:VCALENDAR
VERSION:2.0
PRODID:-//eventon.com NONSGML v1.0//EN
BEGIN:VEVENT
UID:69ed7ee6ac13c
DTSTAMP:20260426T045638
DTSTART:20240126T090000Z
DTEND:20240126T225000Z
TZID:Europe/Madrid
LOCATION:Recinto Ferial IFEMA de Madrid Av. Partenón\,  Nº 5\,  28042 Madrid
SUMMARY:AGENDA FITUR 2024
DESCRIPTION: La Diputación de Almería y ‘Costa de Almería’ convocan a los medios de comunicación a las presentaciones que se realizarán en el marco de FITUR 2024 en la zona del expositor almeriense 10.00 hrs. Ecoaventureras: Presentación de proyecto deportivo. 10:40 hrs. Ayto Almería. Presentación Dreambeach. 11:00 hrs. Ayto Huércal de[..]\nhttps://blog.dipalme.org/events/agenda-fitur-2024-3/
URL:https://blog.dipalme.org/events/agenda-fitur-2024-3/
END:VEVENT
END:VCALENDAR