BEGIN:VCALENDAR
VERSION:2.0
PRODID:-//eventon.com NONSGML v1.0//EN
BEGIN:VEVENT
UID:69eb453d6fb81
DTSTAMP:20260424T122605
DTSTART:20231229T093000Z
DTEND:20231229T225000Z
TZID:Europe/Madrid
LOCATION:Salón de Plenos del Palacio Provincial. Primera Planta. C/ Navarro Rodrigo\,  17
SUMMARY:Sesión Ordinaria de Pleno
DESCRIPTION: La Diputación Provincial de Almería convoca a los medios de comunicación a la sesión ordinaria que celebrará el Pleno de la Corporación en el Palacio Provincial. &nbsp; El Pleno también se podrá seguir en directo a través de la siguiente dirección de streaming: https://dipualmeria.seneca.tv/lives &nbsp; También se emitirá en directo[..]\nhttps://blog.dipalme.org/events/sesion-ordinaria-de-pleno-4/
URL:https://blog.dipalme.org/events/sesion-ordinaria-de-pleno-4/
END:VEVENT
END:VCALENDAR