BEGIN:VCALENDAR
VERSION:2.0
PRODID:-//eventon.com NONSGML v1.0//EN
BEGIN:VEVENT
UID:69e6414647831
DTSTAMP:20260420T170750
DTSTART:20231205T103000Z
DTEND:20231205T225000Z
TZID:Europe/Madrid
LOCATION:Salón Noble de la Delegación de la Junta de Andalucía en Almería Paseo de Almería\,  68\,  04001 Almería
SUMMARY:Presentación de las conclusiones del informe ‘El cambio climático en la agricultura mediterránea’
DESCRIPTION: 11:30 horas. La diputada de Sostenibilidad y Medio Natural\,  María Luisa Cruz\,  asiste al acto de presentación de las conclusiones del informe ‘El cambio climático en la agricultura mediterránea’. En el Salón Noble de la Delegación del Gobierno de la Junta de Andalucía.  \nhttps://blog.dipalme.org/events/presentacion-de-las-conclusiones-del-informe-el-cambio-climatico-en-la-agricultura-mediterranea/
URL:https://blog.dipalme.org/events/presentacion-de-las-conclusiones-del-informe-el-cambio-climatico-en-la-agricultura-mediterranea/
END:VEVENT
END:VCALENDAR