BEGIN:VCALENDAR
VERSION:2.0
PRODID:-//eventon.com NONSGML v1.0//EN
BEGIN:VEVENT
UID:69e6ec8686aae
DTSTAMP:20260421T051830
DTSTART:20231125T193000Z
DTEND:20231125T225000Z
TZID:Europe/Madrid
LOCATION:Auditorio Municipal Maestro Padilla Plaza Alfredo Kraus\,  s/n\,  04007 Almería
SUMMARY:AGENDA XXII FESTIVAL INTERNACIONAL DE CINE DE ALMERÍA  FICAL 2023
DESCRIPTION: AGENDA XXII FESTIVAL INTERNACIONAL DE CINE DE ALMERÍA FICAL 2023 &nbsp;   SÁBADO\,  25 DE NOVIEMBRE Auditorio Municipal Maestro Padilla &nbsp; 20.30 GALA DE CLAUSURA + PREMIO ‘ALMERÍA\,  TIERRA DE CINE’ + PREMIO DE HONOR SERIE DE TELEVISIÓN + PREMIO HONOR + PREMIO ACTOR MÁS POPULAR\nhttps://blog.dipalme.org/events/agenda-xxii-festival-internacional-de-cine-de-almeria-fical-2023-36/
URL:https://blog.dipalme.org/events/agenda-xxii-festival-internacional-de-cine-de-almeria-fical-2023-36/
END:VEVENT
END:VCALENDAR