BEGIN:VCALENDAR
VERSION:2.0
PRODID:-//eventon.com NONSGML v1.0//EN
BEGIN:VEVENT
UID:69e5242ca5d11
DTSTAMP:20260419T205124
DTSTART:20231123T080000Z
DTEND:20231123T225000Z
TZID:Europe/Madrid
LOCATION:Teatro Cervantes. Paseo de Almería esquina con C/ Poeta Villaespesa
SUMMARY:AGENDA XXII FESTIVAL INTERNACIONAL DE CINE DE ALMERÍA  FICAL 2023
DESCRIPTION: AGENDA XXII FESTIVAL INTERNACIONAL DE CINE DE ALMERÍA FICAL 2023 &nbsp; JUEVES\,  23 DE NOVIEMBRE  Teatro Cervantes &nbsp; 09.00 PASE DE PRENSA OPERA PRIMA 11 ULTIMAS VOLUNTADES &nbsp; 17:30 CERTAMEN NACIONAL OPERA PRIMA 11: ULTIMAS VOLUNTADES &nbsp; 22:30 SESIÓN ‘Experiencia Faltal&#8217; LA OFICINA\nhttps://blog.dipalme.org/events/54026/
URL:https://blog.dipalme.org/events/54026/
END:VEVENT
END:VCALENDAR