BEGIN:VCALENDAR
VERSION:2.0
PRODID:-//eventon.com NONSGML v1.0//EN
BEGIN:VEVENT
UID:69ebc3774f39d
DTSTAMP:20260424T212439
DTSTART:20231019T183000Z
DTEND:20231019T215000Z
TZID:Europe/Madrid
LOCATION:Teatro Cervantes. Paseo de Almería esquina con C/ Poeta Villaespesa
SUMMARY:Nueva edición de la Fiesta del Deporte de Onda Cero
DESCRIPTION: 20:30 horas: El vicepresidente y diputado de Deportes\,  José Antonio García\,  asiste a la nueva edición de la Fiesta del Deporte de Onda Cero. En el Teatro Cervantes.\nhttps://blog.dipalme.org/events/nueva-edicion-de-la-fiesta-del-deporte-de-onda-cero/
URL:https://blog.dipalme.org/events/nueva-edicion-de-la-fiesta-del-deporte-de-onda-cero/
END:VEVENT
END:VCALENDAR