BEGIN:VCALENDAR
VERSION:2.0
PRODID:-//eventon.com NONSGML v1.0//EN
BEGIN:VEVENT
UID:69eb3348d2c99
DTSTAMP:20260424T110928
DTSTART:20231019T183000Z
DTEND:20231019T215000Z
TZID:Europe/Madrid
LOCATION:Plaza Jesús Cautivo de Almería Pl. Bendicho\,  13\,  04001 Almería
SUMMARY:Inauguración de la exposición del Prendimiento\,  ‘Un legado de Hermandad’.
DESCRIPTION: 20:30 horas: El vicepresidente de Diputación y diputado de Presidencia\,  Fernando Giménez\,  interviene en la inauguración de la exposición del Prendimiento\,  ‘Un legado de Hermandad’. En la Plaza Jesús Cautivo de Almería.  \nhttps://blog.dipalme.org/events/inauguracion-de-la-exposicion-del-prendimiento-un-legado-de-hermandad/
URL:https://blog.dipalme.org/events/inauguracion-de-la-exposicion-del-prendimiento-un-legado-de-hermandad/
END:VEVENT
END:VCALENDAR