BEGIN:VCALENDAR
VERSION:2.0
PRODID:-//eventon.com NONSGML v1.0//EN
BEGIN:VEVENT
UID:69e53e23330b8
DTSTAMP:20260419T224211
DTSTART:20231016T170000Z
DTEND:20231016T215000Z
TZID:Europe/Madrid
LOCATION:Patio del Mandarino. Sede de Cultura Plaza Bendicho s/n. Almería
SUMMARY:Presentación de la XVIII Semana Cultural
DESCRIPTION: La Diputación Provincial de Almería convoca a los medios de comunicación al acto de presentación de la XVIII Semana Cultural que organiza anualmente la Asociación de Vecinos Puerta de Europa. En la presentación intervendrán la diputada de Cultura\,  Cine e Identidad Almeriense\,  Almudena Morales\,  así como la presidenta de la[..]\nhttps://blog.dipalme.org/events/presentacion-de-la-xviii-semana-cultural/
URL:https://blog.dipalme.org/events/presentacion-de-la-xviii-semana-cultural/
END:VEVENT
END:VCALENDAR