BEGIN:VCALENDAR
VERSION:2.0
PRODID:-//eventon.com NONSGML v1.0//EN
BEGIN:VEVENT
UID:69e56da6354e1
DTSTAMP:20260420T020454
DTSTART:20230901T090000Z
DTEND:20230901T215000Z
TZID:Europe/Madrid
LOCATION:Hall de la Sala de Comisiones. Primera Planta del Palacio Provincial C/ Navarro Rodrigo\,  17
SUMMARY:Presentación del ciclo de conciertos de la OCAL
DESCRIPTION: La Diputación Provincial de Almería convoca a los medios de comunicación a la presentación del ciclo de conciertos de la Institución a cargo de la OCAL\,  OJAL y la OIAL. En la presentación intervendrá la vicepresidenta y diputada de Cultura\,  Cine e Identidad Almeriense\,  Almudena Morales\,  y el director de[..]\nhttps://blog.dipalme.org/events/presentacion-del-ciclo-de-conciertos-de-la-ocal/
URL:https://blog.dipalme.org/events/presentacion-del-ciclo-de-conciertos-de-la-ocal/
END:VEVENT
END:VCALENDAR