BEGIN:VCALENDAR
VERSION:2.0
PRODID:-//eventon.com NONSGML v1.0//EN
BEGIN:VEVENT
UID:69e7119677823
DTSTAMP:20260421T075638
DTSTART:20230502T090000Z
DTEND:20230502T215000Z
TZID:Europe/Madrid
LOCATION:Patio de Luces de la Diputación Provincial de Almería Calle Navarro Rodrigo\,  nº 17.
SUMMARY:Presentación de la III edición del Festival ‘Murmura Alpujarra’
DESCRIPTION: La Diputación Provincial de Almería convoca a los medios de comunicación a la presentación de la III edición del Festival ‘Murmura Alpujarra’ que tendrá lugar en el Patio de Luces de la Institución. En el acto intervendrán el vicepresidente y diputado de Turismo\,  Fernando Giménez\,  y Diego Ferrón\,  de Crash[..]\nhttps://blog.dipalme.org/events/presentacion-de-la-iii-edicion-del-festival-murmura-alpujarra/
URL:https://blog.dipalme.org/events/presentacion-de-la-iii-edicion-del-festival-murmura-alpujarra/
END:VEVENT
END:VCALENDAR