BEGIN:VCALENDAR
VERSION:2.0
PRODID:-//eventon.com NONSGML v1.0//EN
BEGIN:VEVENT
UID:69ecfe20c03c6
DTSTAMP:20260425T194712
DTSTART:20230426T160000Z
DTEND:20230426T215000Z
TZID:Europe/Madrid
LOCATION:Delegación del Gobierno de la Junta de Andalucía Paseo de Almería\,  68\,  04001 Almería
SUMMARY:Pregón de la Feria del Libro
DESCRIPTION: La diputada de Cultura y Cine\,  Almudena Morales\,  asiste al pregón de la Feria del Libro.\nhttps://blog.dipalme.org/events/pregon-de-la-feria-del-libro/
URL:https://blog.dipalme.org/events/pregon-de-la-feria-del-libro/
END:VEVENT
END:VCALENDAR