BEGIN:VCALENDAR
VERSION:2.0
PRODID:-//eventon.com NONSGML v1.0//EN
BEGIN:VEVENT
UID:69e761c0ecf17
DTSTAMP:20260421T133840
DTSTART:20230329T173000Z
DTEND:20230329T215000Z
TZID:Europe/Madrid
LOCATION:Calle García Lorca\,  nº 86\,  Macael C. Garcia Lorca\,  86\,  04867 Macael\,  Almería
SUMMARY:Inauguración de la Plaza del Monumento al Cantero
DESCRIPTION: La Diputación Provincial de Almería convoca a los medios de comunicación al acto de inauguración de la Plaza del Monumento al Cantero en Macael. En el acto intervendrán el presidente de la Diputación Provincial\,  Javier A. García\,  y el alcalde del municipio\,  Raúl Martínez.\nhttps://blog.dipalme.org/events/inauguracion-de-la-plaza-del-monumento-al-cantero/
URL:https://blog.dipalme.org/events/inauguracion-de-la-plaza-del-monumento-al-cantero/
END:VEVENT
END:VCALENDAR