BEGIN:VCALENDAR
VERSION:2.0
PRODID:-//eventon.com NONSGML v1.0//EN
BEGIN:VEVENT
UID:69e69c5d54e02
DTSTAMP:20260420T233629
DTSTART:20230308T093000Z
DTEND:20230308T225000Z
TZID:Europe/Madrid
LOCATION:Instituto Andaluz de la Mujer - Casa Fischer P.º de la Caridad\,  125\,  04008 Almería
SUMMARY:Lectura del manifiesto Día Internacional de la Mujer
DESCRIPTION: La diputada de Igualdad y Familia\,  Nuria Rodríguez\,  participa en la lectura del manifiesto con motivo del Día Internacional de la Mujer. En la sede del Instituto Andaluz de la Mujer\,  Casa Fischer.\nhttps://blog.dipalme.org/events/lectura-del-manifiesto-dia-internacional-de-la-mujer/
URL:https://blog.dipalme.org/events/lectura-del-manifiesto-dia-internacional-de-la-mujer/
END:VEVENT
END:VCALENDAR