BEGIN:VCALENDAR
VERSION:2.0
PRODID:-//eventon.com NONSGML v1.0//EN
BEGIN:VEVENT
UID:69e882722571b
DTSTAMP:20260422T101026
DTSTART:20230227T110000Z
DTEND:20230227T225000Z
TZID:Europe/Madrid
LOCATION:Auditorio Municipal Maestro Padilla Plaza Alfredo Kraus\,  s/n\,  04007 Almería
SUMMARY:David Bisbal - Hijo Predilecto de la Ciudad de Almería
DESCRIPTION: El presidente de Diputación\,  Javier A. García\,  asiste al acto de concesión a David Bisbal del título de Hijo Predilecto de la Ciudad de Almería. En el Auditorio Municipal Maestro Padilla.\nhttps://blog.dipalme.org/events/david-bisbal-hijo-predilecto-de-la-ciudad-de-almeria/
URL:https://blog.dipalme.org/events/david-bisbal-hijo-predilecto-de-la-ciudad-de-almeria/
END:VEVENT
END:VCALENDAR