BEGIN:VCALENDAR
VERSION:2.0
PRODID:-//eventon.com NONSGML v1.0//EN
BEGIN:VEVENT
UID:69e8ba624ac75
DTSTAMP:20260422T140906
DTSTART:20221214T170000Z
DTEND:20221214T225000Z
TZID:Europe/Madrid
LOCATION:Salón Noble del Círculo Mercantil de Almería Poeta Villaespesa\,  1
SUMMARY:Presentación del calendario benéfico de la Asociación ARGAR
DESCRIPTION: El diputado provincial\,  Francisco Álvarez\,  interviene en la presentación del calendario benéfico de la Asociación ARGAR.\nhttps://blog.dipalme.org/events/presentacion-del-calendario-benefico-de-la-asociacion-argar/
URL:https://blog.dipalme.org/events/presentacion-del-calendario-benefico-de-la-asociacion-argar/
END:VEVENT
END:VCALENDAR