BEGIN:VCALENDAR
VERSION:2.0
PRODID:-//eventon.com NONSGML v1.0//EN
BEGIN:VEVENT
UID:69e58e28a2acf
DTSTAMP:20260420T042336
DTSTART:20221129T193000Z
DTEND:20221129T225000Z
TZID:Europe/Madrid
LOCATION:Teatro Apolo C. Rbla. Obispo Orberá\,  25\,  04001 Almería
SUMMARY:Presentación Calendario Solidario de la Asociación ANDA 2023
DESCRIPTION: El vicepresidente de Diputación\,  Ángel Escobar\,  participa en la presentación del calendario solidario de la Asociación ANDA 2023. En el Teatro Apolo.\nhttps://blog.dipalme.org/events/presentacion-calendario-solidario-de-la-asociacion-anda-2023/
URL:https://blog.dipalme.org/events/presentacion-calendario-solidario-de-la-asociacion-anda-2023/
END:VEVENT
END:VCALENDAR