BEGIN:VCALENDAR
VERSION:2.0
PRODID:-//eventon.com NONSGML v1.0//EN
BEGIN:VEVENT
UID:69ea524e1230c
DTSTAMP:20260423T190934
DTSTART:20221117T183000Z
DTEND:20221117T225000Z
TZID:Europe/Madrid
LOCATION:Teatro Apolo C. Rbla. Obispo Orberá\,  25\,  04001 Almería
SUMMARY:Lectura manifiesto 'Día del Niño Prematuro'
DESCRIPTION: La vicepresidenta de la Diputación\,  Ángeles Martínez\,  participa en la lectura del manifiesto por el Día del Niño Prematuro. En la Puerta del Teatro Apolo.\nhttps://blog.dipalme.org/events/lectura-manifiesto-dia-del-nino-prematuro/
URL:https://blog.dipalme.org/events/lectura-manifiesto-dia-del-nino-prematuro/
END:VEVENT
END:VCALENDAR