BEGIN:VCALENDAR
VERSION:2.0
PRODID:-//eventon.com NONSGML v1.0//EN
BEGIN:VEVENT
UID:69e9f945c9745
DTSTAMP:20260423T124941
DTSTART:20221020T170000Z
DTEND:20221020T215000Z
TZID:Europe/Madrid
LOCATION:Salón Noble de la Delegación del Gobierno de la Junta de Andalucía en Almería Paseo de Almería
SUMMARY:X aniversario del Colegio Profesional de Periodistas de Andalucía
DESCRIPTION: La diputada de Cultura y Cine\,  Almudena Morales\,  asiste a la celebración del X aniversario del Colegio Profesional de Periodistas de Andalucía. En el Salón Noble de la Delegación del Gobierno de la Junta\,  Paseo de Almería\,  68.\nhttps://blog.dipalme.org/events/x-aniversario-del-colegio-profesional-de-periodistas-de-andalucia/
URL:https://blog.dipalme.org/events/x-aniversario-del-colegio-profesional-de-periodistas-de-andalucia/
END:VEVENT
END:VCALENDAR