BEGIN:VCALENDAR
VERSION:2.0
PRODID:-//eventon.com NONSGML v1.0//EN
BEGIN:VEVENT
UID:69e8617e8a074
DTSTAMP:20260422T074950
DTSTART:20220922T183000Z
DTEND:20220922T215000Z
TZID:Europe/Madrid
LOCATION:Teatro Municipal de Tabernas Teatro Municipal de Tabernas
SUMMARY:VIII Premios Filabres Alhamilla de La Voz de Almería
DESCRIPTION: El vicepresidente de Diputación\,  Eugenio Gonzálvez\,  y los diputados provinciales Francisco Álvarez y Matilde Díaz participan en los VIII Premios Filabres Alhamilla de La Voz de Almería.\nhttps://blog.dipalme.org/events/viii-premios-filabres-alhamilla-de-la-voz-de-almeria/
URL:https://blog.dipalme.org/events/viii-premios-filabres-alhamilla-de-la-voz-de-almeria/
END:VEVENT
END:VCALENDAR