BEGIN:VCALENDAR
VERSION:2.0
PRODID:-//eventon.com NONSGML v1.0//EN
BEGIN:VEVENT
UID:69e5749c19e06
DTSTAMP:20260420T023436
DTSTART:20220802T180000Z
DTEND:20220802T215000Z
TZID:Europe/Madrid
LOCATION:Casa de Cultura Fidela Campiña de Tíjola C. Huertas de la polaca\,  4\,  04880 Tíjola\,  Almería
SUMMARY:Inauguración IX Jornadas de Historia Local de Tíjola
DESCRIPTION: La diputada provincial\,  Conce Pérez\,  participa en la inauguración de las IX Jornadas de Historia Local de Tíjola. En el Centro Cultural Fidela Campaña de Tíjola.\nhttps://blog.dipalme.org/events/inauguracion-ix-jornadas-de-historia-local-de-tijola/
URL:https://blog.dipalme.org/events/inauguracion-ix-jornadas-de-historia-local-de-tijola/
END:VEVENT
END:VCALENDAR