BEGIN:VCALENDAR
VERSION:2.0
PRODID:-//eventon.com NONSGML v1.0//EN
BEGIN:VEVENT
UID:69e684198884c
DTSTAMP:20260420T215257
DTSTART:20220721T090000Z
DTEND:20220721T215000Z
TZID:Europe/Madrid
LOCATION:Sede de la FAAM 
SUMMARY:Presentación de la ‘Travesía en aguas abiertas’ perteneciente a la  Copa Open Faandi 2022.
DESCRIPTION: El diputado de Deportes\,  José Antonio García\,  interviene en la presentación de la ‘Travesía en aguas abiertas’ perteneciente a la  Copa Open Faandi 2022.\nhttps://blog.dipalme.org/events/presentacion-de-la-travesia-en-aguas-abiertas-perteneciente-a-la-copa-open-faandi-2022/
URL:https://blog.dipalme.org/events/presentacion-de-la-travesia-en-aguas-abiertas-perteneciente-a-la-copa-open-faandi-2022/
END:VEVENT
END:VCALENDAR