BEGIN:VCALENDAR
VERSION:2.0
PRODID:-//eventon.com NONSGML v1.0//EN
BEGIN:VEVENT
UID:69e9982fb8923
DTSTAMP:20260423T055527
DTSTART:20220714T100000Z
DTEND:20220714T215000Z
TZID:Europe/Madrid
LOCATION:Antiguo Hospital de las Cinco Llagas. Sevilla 
SUMMARY:XII Legislatura del Parlamento Andaluz
DESCRIPTION: El presidente de Diputación\,  Javier A. García\,  asiste a la sesión de la XII Legislatura del Parlamento Andaluz.\nhttps://blog.dipalme.org/events/xii-legislatura-del-parlamento-andaluz/
URL:https://blog.dipalme.org/events/xii-legislatura-del-parlamento-andaluz/
END:VEVENT
END:VCALENDAR