BEGIN:VCALENDAR
VERSION:2.0
PRODID:-//eventon.com NONSGML v1.0//EN
BEGIN:VEVENT
UID:69e879b9201e9
DTSTAMP:20260422T093313
DTSTART:20220630T183000Z
DTEND:20220630T215000Z
TZID:Europe/Madrid
LOCATION:Centro de Cultura Cajamar\,  Edificio de las Mariposas 
SUMMARY:VIII edición de los Premios Almur
DESCRIPTION: La diputada de Igualdad y Familia\,  Carmen Belén López\,  asiste a la VIII edición de los Premios Almur.\nhttps://blog.dipalme.org/events/viii-edicion-de-los-premios-almur/
URL:https://blog.dipalme.org/events/viii-edicion-de-los-premios-almur/
END:VEVENT
END:VCALENDAR