BEGIN:VCALENDAR
VERSION:2.0
PRODID:-//eventon.com NONSGML v1.0//EN
BEGIN:VEVENT
UID:69ecd424d89cf
DTSTAMP:20260425T164804
DTSTART:20220530T103000Z
DTEND:20220530T215000Z
TZID:Europe/Madrid
LOCATION:Área de Alcaldía\,  antiguo edificio El Preventorio. 
SUMMARY:Visita institucional que el presidente de la Junta de Andalucía Juanma Moreno.
DESCRIPTION: El presidente de Diputación\,  Javier A. García\,  participa en la visita institucional que el presidente de la Junta de Andalucía\,  Juanma Moreno\,  realiza a la Alcaldía de Almería con el alcalde de la ciudad\,  Ramón Fernández-Pacheco.\nhttps://blog.dipalme.org/events/visita-institucional-que-el-presidente-de-la-junta-de-andalucia-juanma-moreno/
URL:https://blog.dipalme.org/events/visita-institucional-que-el-presidente-de-la-junta-de-andalucia-juanma-moreno/
END:VEVENT
END:VCALENDAR