BEGIN:VCALENDAR
VERSION:2.0
PRODID:-//eventon.com NONSGML v1.0//EN
BEGIN:VEVENT
UID:69eb69ca2b8cd
DTSTAMP:20260424T150202
DTSTART:20220525T160000Z
DTEND:20220525T215000Z
TZID:Europe/Madrid
LOCATION:Sala de Espacio de Mujeres. Calle Marín\,  1
SUMMARY:Conferencia ‘No más mitos en la salud de la mujer’
DESCRIPTION: La Diputación de Almería convoca a los medios de comunicación a la conferencia ‘No más mitos en la salud de la mujer’\,  que se celebrará en la Sala del Espacio de Mujeres\,  impartida por el ginecólogo Gabriel Fiol\,  con motivo del Día Mundial de la Acción por la Salud de[..]\nhttps://blog.dipalme.org/events/conferencia-no-mas-mitos-en-la-salud-de-la-mujer/
URL:https://blog.dipalme.org/events/conferencia-no-mas-mitos-en-la-salud-de-la-mujer/
END:VEVENT
END:VCALENDAR