BEGIN:VCALENDAR
VERSION:2.0
PRODID:-//eventon.com NONSGML v1.0//EN
BEGIN:VEVENT
UID:69ea155bd3345
DTSTAMP:20260423T144931
DTSTART:20220512T090000Z
DTEND:20220512T215000Z
TZID:Europe/Madrid
LOCATION:En el Paseo de Almería 
SUMMARY:Mesa de Cuestación de la Asociación Española Contra el Cáncer
DESCRIPTION: Los vicepresidentes de Diputación\,  Ángel Escobar y Ángeles Martínez\,  participan en la Mesa de Cuestación de la Asociación Española Contra el Cáncer.\nhttps://blog.dipalme.org/events/mesa-de-cuestacion-de-la-asociacion-espanola-contra-el-cancer/
URL:https://blog.dipalme.org/events/mesa-de-cuestacion-de-la-asociacion-espanola-contra-el-cancer/
END:VEVENT
END:VCALENDAR